Package: CoGAPS Version: 3.26.0 Command: /home/biocbuild/R/R/bin/R CMD check --install=check:CoGAPS.install-out.txt --library=/home/biocbuild/R/R/site-library --no-vignettes --timings CoGAPS_3.26.0.tar.gz StartedAt: 2025-01-28 05:57:18 -0000 (Tue, 28 Jan 2025) EndedAt: 2025-01-28 06:02:15 -0000 (Tue, 28 Jan 2025) EllapsedTime: 297.2 seconds RetCode: 0 Status: OK CheckDir: CoGAPS.Rcheck Warnings: 0