Package: CoGAPS Version: 3.26.0 Command: /home/biocbuild/bbs-3.20-bioc/R/bin/R CMD check --install=check:CoGAPS.install-out.txt --library=/home/biocbuild/bbs-3.20-bioc/R/site-library --timings CoGAPS_3.26.0.tar.gz StartedAt: 2025-03-31 20:57:18 -0400 (Mon, 31 Mar 2025) EndedAt: 2025-03-31 21:01:52 -0400 (Mon, 31 Mar 2025) EllapsedTime: 274.2 seconds RetCode: 0 Status: OK CheckDir: CoGAPS.Rcheck Warnings: 0