Package: CoCiteStats Version: 1.78.0 Command: F:\biocbuild\bbs-3.20-bioc\R\bin\R.exe CMD INSTALL CoCiteStats StartedAt: 2025-01-27 15:50:45 -0500 (Mon, 27 Jan 2025) EndedAt: 2025-01-27 15:51:04 -0500 (Mon, 27 Jan 2025) EllapsedTime: 19.3 seconds RetCode: 0 Status: OK