Package: CoCiteStats Version: 1.78.0 Command: /home/biocbuild/bbs-3.20-bioc/R/bin/R CMD build --keep-empty-dirs --no-resave-data --md5 CoCiteStats StartedAt: 2025-01-27 17:40:28 -0500 (Mon, 27 Jan 2025) EndedAt: 2025-01-27 17:40:29 -0500 (Mon, 27 Jan 2025) EllapsedTime: 1.0 seconds RetCode: 0 Status: OK PackageFile: CoCiteStats_1.78.0.tar.gz PackageFileSize: 5.828 KiB