Package: ClusterSignificance Version: 1.34.0 Command: /home/biocbuild/R/R/bin/R CMD INSTALL ClusterSignificance StartedAt: 2025-03-31 20:14:50 -0000 (Mon, 31 Mar 2025) EndedAt: 2025-03-31 20:15:18 -0000 (Mon, 31 Mar 2025) EllapsedTime: 28.0 seconds RetCode: 0 Status: OK