Package: ClusterSignificance Version: 1.34.0 Command: /home/biocbuild/R/R/bin/R CMD check --install=check:ClusterSignificance.install-out.txt --library=/home/biocbuild/R/R/site-library --no-vignettes --timings ClusterSignificance_1.34.0.tar.gz StartedAt: 2025-02-04 05:44:30 -0000 (Tue, 04 Feb 2025) EndedAt: 2025-02-04 05:45:11 -0000 (Tue, 04 Feb 2025) EllapsedTime: 41.0 seconds RetCode: 0 Status: OK CheckDir: ClusterSignificance.Rcheck Warnings: 0