Package: ClusterSignificance Version: 1.34.0 Command: F:\biocbuild\bbs-3.20-bioc\R\bin\R.exe CMD INSTALL ClusterSignificance StartedAt: 2025-02-03 15:35:19 -0500 (Mon, 03 Feb 2025) EndedAt: 2025-02-03 15:38:59 -0500 (Mon, 03 Feb 2025) EllapsedTime: 220.2 seconds RetCode: 0 Status: OK