Package: ClusterSignificance Version: 1.34.0 Command: rm -rf ClusterSignificance.buildbin-libdir && mkdir ClusterSignificance.buildbin-libdir && F:\biocbuild\bbs-3.20-bioc\R\bin\R.exe CMD INSTALL --build --library=ClusterSignificance.buildbin-libdir ClusterSignificance_1.34.0.tar.gz StartedAt: 2025-04-01 07:55:51 -0400 (Tue, 01 Apr 2025) EndedAt: 2025-04-01 07:59:03 -0400 (Tue, 01 Apr 2025) EllapsedTime: 191.9 seconds RetCode: 0 Status: OK PackageFile: ClusterSignificance_1.34.0.zip PackageFileSize: 1.52 MiB