Package: ClusterSignificance Version: 1.34.0 Command: /home/biocbuild/bbs-3.20-bioc/R/bin/R CMD INSTALL ClusterSignificance StartedAt: 2025-03-31 15:11:29 -0400 (Mon, 31 Mar 2025) EndedAt: 2025-03-31 15:11:37 -0400 (Mon, 31 Mar 2025) EllapsedTime: 7.8 seconds RetCode: 0 Status: OK