Package: ClusterSignificance Version: 1.34.0 Command: /home/biocbuild/bbs-3.20-bioc/R/bin/R CMD check --install=check:ClusterSignificance.install-out.txt --library=/home/biocbuild/bbs-3.20-bioc/R/site-library --timings ClusterSignificance_1.34.0.tar.gz StartedAt: 2025-01-27 21:49:46 -0500 (Mon, 27 Jan 2025) EndedAt: 2025-01-27 21:51:10 -0500 (Mon, 27 Jan 2025) EllapsedTime: 84.1 seconds RetCode: 0 Status: OK CheckDir: ClusterSignificance.Rcheck Warnings: 0