Package: ClusterSignificance Version: 1.34.0 Command: /Library/Frameworks/R.framework/Resources/bin/R CMD INSTALL ClusterSignificance StartedAt: 2025-03-31 15:12:08 -0400 (Mon, 31 Mar 2025) EndedAt: 2025-03-31 15:12:13 -0400 (Mon, 31 Mar 2025) EllapsedTime: 5.1 seconds RetCode: 0 Status: OK