Package: ClusterJudge Version: 1.28.0 Command: /home/biocbuild/R/R/bin/R CMD check --install=check:ClusterJudge.install-out.txt --library=/home/biocbuild/R/R/site-library --no-vignettes --timings ClusterJudge_1.28.0.tar.gz StartedAt: 2025-01-28 05:52:18 -0000 (Tue, 28 Jan 2025) EndedAt: 2025-01-28 05:55:15 -0000 (Tue, 28 Jan 2025) EllapsedTime: 176.2 seconds RetCode: 1 Status: ERROR CheckDir: ClusterJudge.Rcheck Warnings: NA