Package: ClusterJudge Version: 1.28.0 Command: /Library/Frameworks/R.framework/Resources/bin/R CMD INSTALL ClusterJudge StartedAt: 2025-01-27 15:16:06 -0500 (Mon, 27 Jan 2025) EndedAt: 2025-01-27 15:16:23 -0500 (Mon, 27 Jan 2025) EllapsedTime: 17.1 seconds RetCode: 0 Status: OK