Package: ClusterJudge Version: 1.28.0 Command: /Library/Frameworks/R.framework/Resources/bin/R CMD build --keep-empty-dirs --no-resave-data ClusterJudge StartedAt: 2025-01-27 17:56:21 -0500 (Mon, 27 Jan 2025) EndedAt: 2025-01-27 17:58:07 -0500 (Mon, 27 Jan 2025) EllapsedTime: 105.3 seconds RetCode: 0 Status: OK PackageFile: ClusterJudge_1.28.0.tar.gz PackageFileSize: 958.6 KiB