Package: ClusterJudge Version: 1.28.0 Command: rm -rf ClusterJudge.buildbin-libdir && mkdir ClusterJudge.buildbin-libdir && /Users/biocbuild/BBS/utils/build-universal.sh ClusterJudge_1.28.0.tar.gz /Library/Frameworks/R.framework/Resources/bin/R ClusterJudge.buildbin-libdir StartedAt: 2024-11-20 04:19:47 -0500 (Wed, 20 Nov 2024) EndedAt: 2024-11-20 04:19:55 -0500 (Wed, 20 Nov 2024) EllapsedTime: 8.0 seconds RetCode: 0 Status: OK PackageFile: ClusterJudge_1.28.0.tgz PackageFileSize: 4.312 MiB