Package: ClusterJudge Version: 1.28.0 Command: /Library/Frameworks/R.framework/Resources/bin/R CMD INSTALL ClusterJudge StartedAt: 2025-01-27 15:19:13 -0500 (Mon, 27 Jan 2025) EndedAt: 2025-01-27 15:19:19 -0500 (Mon, 27 Jan 2025) EllapsedTime: 5.8 seconds RetCode: 0 Status: OK