Package: ClusterJudge Version: 1.28.0 Command: /Library/Frameworks/R.framework/Resources/bin/R CMD build --keep-empty-dirs --no-resave-data ClusterJudge StartedAt: 2025-03-31 20:53:22 -0400 (Mon, 31 Mar 2025) EndedAt: 2025-03-31 20:54:29 -0400 (Mon, 31 Mar 2025) EllapsedTime: 67.4 seconds RetCode: 0 Status: OK PackageFile: ClusterJudge_1.28.0.tar.gz PackageFileSize: 958.9 KiB