Package: ClusterJudge Version: 1.28.0 Command: rm -rf ClusterJudge.buildbin-libdir && mkdir ClusterJudge.buildbin-libdir && /Users/biocbuild/BBS/utils/build-universal.sh ClusterJudge_1.28.0.tar.gz /Library/Frameworks/R.framework/Resources/bin/R ClusterJudge.buildbin-libdir StartedAt: 2025-01-29 14:05:18 -0500 (Wed, 29 Jan 2025) EndedAt: 2025-01-29 14:05:26 -0500 (Wed, 29 Jan 2025) EllapsedTime: 7.8 seconds RetCode: 0 Status: OK PackageFile: ClusterJudge_1.28.0.tgz PackageFileSize: 4.315 MiB