Package: ClusterFoldSimilarity Version: 1.2.0 Command: /home/biocbuild/R/R/bin/R CMD INSTALL ClusterFoldSimilarity StartedAt: 2025-01-27 21:51:08 -0000 (Mon, 27 Jan 2025) EndedAt: 2025-01-27 21:51:54 -0000 (Mon, 27 Jan 2025) EllapsedTime: 46.1 seconds RetCode: 0 Status: OK