Package: ClusterFoldSimilarity Version: 1.2.0 Command: /home/biocbuild/R/R/bin/R CMD build --keep-empty-dirs --no-resave-data ClusterFoldSimilarity StartedAt: 2025-03-31 22:35:20 -0000 (Mon, 31 Mar 2025) EndedAt: 2025-03-31 22:47:19 -0000 (Mon, 31 Mar 2025) EllapsedTime: 719.3 seconds RetCode: 0 Status: OK PackageFile: ClusterFoldSimilarity_1.2.0.tar.gz PackageFileSize: 839.4 KiB