Package: ClusterFoldSimilarity Version: 1.2.0 Command: /home/biocbuild/bbs-3.20-bioc/R/bin/R CMD check --install=check:ClusterFoldSimilarity.install-out.txt --library=/home/biocbuild/bbs-3.20-bioc/R/site-library --timings ClusterFoldSimilarity_1.2.0.tar.gz StartedAt: 2025-02-03 21:04:45 -0500 (Mon, 03 Feb 2025) EndedAt: 2025-02-03 21:16:16 -0500 (Mon, 03 Feb 2025) EllapsedTime: 691.7 seconds RetCode: 0 Status: WARNINGS CheckDir: ClusterFoldSimilarity.Rcheck Warnings: 1