Package: ClusterFoldSimilarity Version: 1.2.0 Command: /home/biocbuild/bbs-3.20-bioc/R/bin/R CMD build --keep-empty-dirs --no-resave-data --md5 ClusterFoldSimilarity StartedAt: 2025-03-31 16:42:40 -0400 (Mon, 31 Mar 2025) EndedAt: 2025-03-31 16:50:30 -0400 (Mon, 31 Mar 2025) EllapsedTime: 470.5 seconds RetCode: 0 Status: OK PackageFile: ClusterFoldSimilarity_1.2.0.tar.gz PackageFileSize: 1.566 MiB