Package: ClusterFoldSimilarity Version: 1.2.0 Command: /Library/Frameworks/R.framework/Resources/bin/R CMD check --install=check:ClusterFoldSimilarity.install-out.txt --library=/Library/Frameworks/R.framework/Resources/library --no-vignettes --timings ClusterFoldSimilarity_1.2.0.tar.gz StartedAt: 2025-01-28 14:33:36 -0500 (Tue, 28 Jan 2025) EndedAt: 2025-01-28 14:38:24 -0500 (Tue, 28 Jan 2025) EllapsedTime: 287.4 seconds RetCode: 0 Status: WARNINGS CheckDir: ClusterFoldSimilarity.Rcheck Warnings: 1