Package: ClustIRR Version: 1.4.0 Command: chmod a+r ClustIRR -R && F:\biocbuild\bbs-3.20-bioc\R\bin\R.exe CMD build --keep-empty-dirs --no-resave-data ClustIRR StartedAt: 2025-02-03 18:13:29 -0500 (Mon, 03 Feb 2025) EndedAt: 2025-02-03 18:26:30 -0500 (Mon, 03 Feb 2025) EllapsedTime: 781.0 seconds RetCode: 0 Status: OK PackageFile: ClustIRR_1.4.0.tar.gz PackageFileSize: 2.244 MiB