Package: ClustIRR Version: 1.4.0 Command: rm -rf ClustIRR.buildbin-libdir && mkdir ClustIRR.buildbin-libdir && F:\biocbuild\bbs-3.20-bioc\R\bin\R.exe CMD INSTALL --build --library=ClustIRR.buildbin-libdir ClustIRR_1.4.0.tar.gz StartedAt: 2025-01-28 07:53:14 -0500 (Tue, 28 Jan 2025) EndedAt: 2025-01-28 07:56:33 -0500 (Tue, 28 Jan 2025) EllapsedTime: 198.6 seconds RetCode: 0 Status: OK PackageFile: ClustIRR_1.4.0.zip PackageFileSize: 3.333 MiB