Package: ClustIRR Version: 1.4.0 Command: rm -rf ClustIRR.buildbin-libdir && mkdir ClustIRR.buildbin-libdir && /Users/biocbuild/BBS/utils/build-universal.sh ClustIRR_1.4.0.tar.gz /Library/Frameworks/R.framework/Resources/bin/R ClustIRR.buildbin-libdir StartedAt: 2025-01-31 12:32:43 -0500 (Fri, 31 Jan 2025) EndedAt: 2025-01-31 12:38:26 -0500 (Fri, 31 Jan 2025) EllapsedTime: 342.7 seconds RetCode: 0 Status: OK PackageFile: ClustIRR_1.4.0.tgz PackageFileSize: 3.535 MiB