Package: ClustAll Version: 1.2.0 Command: F:\biocbuild\bbs-3.20-bioc\R\bin\R.exe CMD INSTALL ClustAll StartedAt: 2025-01-27 16:50:20 -0500 (Mon, 27 Jan 2025) EndedAt: 2025-01-27 16:51:10 -0500 (Mon, 27 Jan 2025) EllapsedTime: 50.1 seconds RetCode: 0 Status: OK