Package: ClustAll Version: 1.2.0 Command: /home/biocbuild/bbs-3.20-bioc/R/bin/R CMD build --keep-empty-dirs --no-resave-data --md5 ClustAll StartedAt: 2025-01-27 17:38:09 -0500 (Mon, 27 Jan 2025) EndedAt: 2025-01-27 17:42:19 -0500 (Mon, 27 Jan 2025) EllapsedTime: 250.3 seconds RetCode: 0 Status: OK PackageFile: ClustAll_1.2.0.tar.gz PackageFileSize: 2.948 MiB