Package: ClustAll Version: 1.2.0 Command: /Library/Frameworks/R.framework/Resources/bin/R CMD check --install=check:ClustAll.install-out.txt --library=/Library/Frameworks/R.framework/Resources/library --no-vignettes --timings ClustAll_1.2.0.tar.gz StartedAt: 2025-01-28 01:33:10 -0500 (Tue, 28 Jan 2025) EndedAt: 2025-01-28 01:41:24 -0500 (Tue, 28 Jan 2025) EllapsedTime: 493.8 seconds RetCode: 0 Status: OK CheckDir: ClustAll.Rcheck Warnings: 0