Package: ClustAll Version: 1.2.0 Command: /Library/Frameworks/R.framework/Resources/bin/R CMD INSTALL ClustAll StartedAt: 2025-01-27 17:44:44 -0500 (Mon, 27 Jan 2025) EndedAt: 2025-01-27 17:45:11 -0500 (Mon, 27 Jan 2025) EllapsedTime: 26.9 seconds RetCode: 0 Status: OK