Package: Clomial Version: 1.42.0 Command: chmod a+r Clomial -R && F:\biocbuild\bbs-3.20-bioc\R\bin\R.exe CMD build --keep-empty-dirs --no-resave-data Clomial StartedAt: 2025-01-27 18:01:06 -0500 (Mon, 27 Jan 2025) EndedAt: 2025-01-27 18:01:40 -0500 (Mon, 27 Jan 2025) EllapsedTime: 34.1 seconds RetCode: 0 Status: OK PackageFile: Clomial_1.42.0.tar.gz PackageFileSize: 1.353 MiB