Package: Clomial Version: 1.42.0 Command: rm -rf Clomial.buildbin-libdir && mkdir Clomial.buildbin-libdir && F:\biocbuild\bbs-3.20-bioc\R\bin\R.exe CMD INSTALL --build --library=Clomial.buildbin-libdir Clomial_1.42.0.tar.gz StartedAt: 2025-01-28 07:52:29 -0500 (Tue, 28 Jan 2025) EndedAt: 2025-01-28 07:52:37 -0500 (Tue, 28 Jan 2025) EllapsedTime: 7.9 seconds RetCode: 0 Status: OK PackageFile: Clomial_1.42.0.zip PackageFileSize: 1.421 MiB