Package: Clomial Version: 1.42.0 Command: /home/biocbuild/bbs-3.20-bioc/R/bin/R CMD build --keep-empty-dirs --no-resave-data --md5 Clomial StartedAt: 2025-01-27 17:37:54 -0500 (Mon, 27 Jan 2025) EndedAt: 2025-01-27 17:38:08 -0500 (Mon, 27 Jan 2025) EllapsedTime: 14.0 seconds RetCode: 0 Status: OK PackageFile: Clomial_1.42.0.tar.gz PackageFileSize: 1.462 MiB