Package: Clomial Version: 1.42.0 Command: /Library/Frameworks/R.framework/Resources/bin/R CMD INSTALL Clomial StartedAt: 2025-01-27 15:12:19 -0500 (Mon, 27 Jan 2025) EndedAt: 2025-01-27 15:12:49 -0500 (Mon, 27 Jan 2025) EllapsedTime: 30.6 seconds RetCode: 0 Status: OK