Package: CleanUpRNAseq Version: 1.0.0 Command: /home/biocbuild/R/R/bin/R CMD INSTALL CleanUpRNAseq StartedAt: 2025-02-10 20:56:12 -0000 (Mon, 10 Feb 2025) EndedAt: 2025-02-10 20:57:06 -0000 (Mon, 10 Feb 2025) EllapsedTime: 54.4 seconds RetCode: 0 Status: OK