Package: CleanUpRNAseq Version: 1.0.0 Command: /Library/Frameworks/R.framework/Resources/bin/R CMD build --keep-empty-dirs --no-resave-data CleanUpRNAseq StartedAt: 2025-03-31 17:42:42 -0400 (Mon, 31 Mar 2025) EndedAt: 2025-03-31 17:45:49 -0400 (Mon, 31 Mar 2025) EllapsedTime: 187.4 seconds RetCode: 0 Status: OK PackageFile: CleanUpRNAseq_1.0.0.tar.gz PackageFileSize: 2.472 MiB