Package: ClassifyR Version: 3.10.6 Command: F:\biocbuild\bbs-3.20-bioc\R\bin\R.exe CMD INSTALL ClassifyR StartedAt: 2025-02-03 16:34:17 -0500 (Mon, 03 Feb 2025) EndedAt: 2025-02-03 16:35:26 -0500 (Mon, 03 Feb 2025) EllapsedTime: 68.9 seconds RetCode: 0 Status: OK