Package: ClassifyR Version: 3.10.6 Command: rm -rf ClassifyR.buildbin-libdir && mkdir ClassifyR.buildbin-libdir && F:\biocbuild\bbs-3.20-bioc\R\bin\R.exe CMD INSTALL --build --library=ClassifyR.buildbin-libdir ClassifyR_3.10.6.tar.gz StartedAt: 2025-02-04 08:12:48 -0500 (Tue, 04 Feb 2025) EndedAt: 2025-02-04 08:14:13 -0500 (Tue, 04 Feb 2025) EllapsedTime: 84.6 seconds RetCode: 0 Status: OK PackageFile: ClassifyR_3.10.6.zip PackageFileSize: 2.214 MiB