Package: ClassifyR Version: 3.10.6 Command: /Library/Frameworks/R.framework/Resources/bin/R CMD check --install=check:ClassifyR.install-out.txt --library=/Library/Frameworks/R.framework/Resources/library --no-vignettes --timings ClassifyR_3.10.6.tar.gz StartedAt: 2025-02-04 01:17:30 -0500 (Tue, 04 Feb 2025) EndedAt: 2025-02-04 01:29:14 -0500 (Tue, 04 Feb 2025) EllapsedTime: 703.9 seconds RetCode: 0 Status: WARNINGS CheckDir: ClassifyR.Rcheck Warnings: 2