Package: ClassifyR Version: 3.10.6 Command: /Library/Frameworks/R.framework/Resources/bin/R CMD build --keep-empty-dirs --no-resave-data ClassifyR StartedAt: 2025-02-03 17:53:17 -0500 (Mon, 03 Feb 2025) EndedAt: 2025-02-03 17:57:18 -0500 (Mon, 03 Feb 2025) EllapsedTime: 241.2 seconds RetCode: 0 Status: OK PackageFile: ClassifyR_3.10.6.tar.gz PackageFileSize: 2.298 MiB