Package: ClassifyR Version: 3.10.6 Command: rm -rf ClassifyR.buildbin-libdir && mkdir ClassifyR.buildbin-libdir && /Users/biocbuild/BBS/utils/build-universal.sh ClassifyR_3.10.6.tar.gz /Library/Frameworks/R.framework/Resources/bin/R ClassifyR.buildbin-libdir StartedAt: 2025-02-04 12:40:04 -0500 (Tue, 04 Feb 2025) EndedAt: 2025-02-04 12:41:26 -0500 (Tue, 04 Feb 2025) EllapsedTime: 81.8 seconds RetCode: 0 Status: OK PackageFile: ClassifyR_3.10.6.tgz PackageFileSize: 2.529 MiB