Package: ClassifyR Version: 3.10.0 Command: /Library/Frameworks/R.framework/Resources/bin/R CMD build --keep-empty-dirs --no-resave-data ClassifyR StartedAt: 2024-11-08 16:29:03 -0500 (Fri, 08 Nov 2024) EndedAt: 2024-11-08 16:32:49 -0500 (Fri, 08 Nov 2024) EllapsedTime: 225.4 seconds RetCode: 0 Status: OK PackageFile: ClassifyR_3.10.0.tar.gz PackageFileSize: 2.044 MiB