Package: ClassifyR Version: 3.10.5 Command: /Library/Frameworks/R.framework/Resources/bin/R CMD check --install=check:ClassifyR.install-out.txt --library=/Library/Frameworks/R.framework/Resources/library --no-vignettes --timings ClassifyR_3.10.5.tar.gz StartedAt: 2025-01-28 14:21:57 -0500 (Tue, 28 Jan 2025) EndedAt: 2025-01-28 14:27:43 -0500 (Tue, 28 Jan 2025) EllapsedTime: 346.0 seconds RetCode: 0 Status: WARNINGS CheckDir: ClassifyR.Rcheck Warnings: 2