Package: CiteFuse Version: 1.18.0 Command: /Library/Frameworks/R.framework/Resources/bin/R CMD build --keep-empty-dirs --no-resave-data CiteFuse StartedAt: 2025-02-03 20:46:37 -0500 (Mon, 03 Feb 2025) EndedAt: 2025-02-03 20:49:41 -0500 (Mon, 03 Feb 2025) EllapsedTime: 183.9 seconds RetCode: 0 Status: OK PackageFile: CiteFuse_1.18.0.tar.gz PackageFileSize: 3.407 MiB