Package: CircSeqAlignTk Version: 1.8.0 Command: /home/biocbuild/R/R/bin/R CMD build --keep-empty-dirs --no-resave-data CircSeqAlignTk StartedAt: 2025-03-31 22:30:15 -0000 (Mon, 31 Mar 2025) EndedAt: 2025-03-31 22:33:36 -0000 (Mon, 31 Mar 2025) EllapsedTime: 201.1 seconds RetCode: 0 Status: OK PackageFile: CircSeqAlignTk_1.8.0.tar.gz PackageFileSize: 1.57 MiB