Package: CircSeqAlignTk Version: 1.8.0 Command: /Library/Frameworks/R.framework/Resources/bin/R CMD check --install=check:CircSeqAlignTk.install-out.txt --library=/Library/Frameworks/R.framework/Resources/library --no-vignettes --timings CircSeqAlignTk_1.8.0.tar.gz StartedAt: 2025-04-01 00:46:19 -0400 (Tue, 01 Apr 2025) EndedAt: 2025-04-01 00:58:22 -0400 (Tue, 01 Apr 2025) EllapsedTime: 723.1 seconds RetCode: 0 Status: OK CheckDir: CircSeqAlignTk.Rcheck Warnings: 0