Package: CircSeqAlignTk Version: 1.8.0 Command: /Library/Frameworks/R.framework/Resources/bin/R CMD INSTALL CircSeqAlignTk StartedAt: 2025-01-30 16:50:38 -0500 (Thu, 30 Jan 2025) EndedAt: 2025-01-30 16:51:30 -0500 (Thu, 30 Jan 2025) EllapsedTime: 51.8 seconds RetCode: 0 Status: OK