Package: CircSeqAlignTk Version: 1.8.0 Command: /Library/Frameworks/R.framework/Resources/bin/R CMD build --keep-empty-dirs --no-resave-data CircSeqAlignTk StartedAt: 2025-03-31 20:44:19 -0400 (Mon, 31 Mar 2025) EndedAt: 2025-03-31 20:48:01 -0400 (Mon, 31 Mar 2025) EllapsedTime: 222.5 seconds RetCode: 0 Status: OK PackageFile: CircSeqAlignTk_1.8.0.tar.gz PackageFileSize: 2.05 MiB