Package: ChromSCape Version: 1.16.0 Command: F:\biocbuild\bbs-3.20-bioc\R\bin\R.exe CMD INSTALL ChromSCape StartedAt: 2025-01-27 17:06:05 -0500 (Mon, 27 Jan 2025) EndedAt: 2025-01-27 17:08:12 -0500 (Mon, 27 Jan 2025) EllapsedTime: 126.9 seconds RetCode: 0 Status: OK