Package: ChromSCape Version: 1.16.0 Command: /Library/Frameworks/R.framework/Resources/bin/R CMD check --install=check:ChromSCape.install-out.txt --library=/Library/Frameworks/R.framework/Resources/library --no-vignettes --timings ChromSCape_1.16.0.tar.gz StartedAt: 2025-01-28 14:12:39 -0500 (Tue, 28 Jan 2025) EndedAt: 2025-01-28 14:27:43 -0500 (Tue, 28 Jan 2025) EllapsedTime: 904.3 seconds RetCode: 0 Status: WARNINGS CheckDir: ChromSCape.Rcheck Warnings: 3